BEGIN:VCALENDAR
VERSION:2.0
PRODID:-//夢創館 - ECPv6.13.1//NONSGML v1.0//EN
CALSCALE:GREGORIAN
METHOD:PUBLISH
X-WR-CALNAME:夢創館
X-ORIGINAL-URL:https://musoukan.jp
X-WR-CALDESC:夢創館 のイベント
REFRESH-INTERVAL;VALUE=DURATION:PT1H
X-Robots-Tag:noindex
X-PUBLISHED-TTL:PT1H
BEGIN:VTIMEZONE
TZID:Asia/Tokyo
BEGIN:STANDARD
TZOFFSETFROM:+0900
TZOFFSETTO:+0900
TZNAME:JST
DTSTART:20250101T000000
END:STANDARD
END:VTIMEZONE
BEGIN:VEVENT
DTSTART;TZID=Asia/Tokyo:20260501T183000
DTEND;TZID=Asia/Tokyo:20260501T203000
DTSTAMP:20260424T191329
CREATED:20260422T053144Z
LAST-MODIFIED:20260422T053212Z
UID:6878-1777660200-1777667400@musoukan.jp
SUMMARY:Fuente patria  tour2026【2026年5月1日（金）　やきとり新撰組】
DESCRIPTION:  \n\n\n\n催事\nFuente patria tour 2026\n\n\n日程\n2026年5月1日（金）\n\n\n時間\nopen 18:00～ /  start 18:30~\n\n\n場所\nやきとり新撰組（恵庭市漁町104－1）\n\n\n料金\n¥3\,500-　（1drink 焼鳥2本付）　※予約制　限定30名様\n\n\nチケット\n‐\n\n\nお問合せ\n0123-33-0323\n\n\n出演\nバイオリン：瀧本志保／ギター：古舘賢治／ハンドパン＆カホン：佐藤裕一\n\n\n主催\nFuente\n\n\n後援\n‐\n\n\n協力\n‐\n\n\n備考\n\n\n\n\n \nシェアよろしくお願いします！
URL:https://musoukan.jp/event/fuente-patria-tour2026/
LOCATION:やきとり新撰組\, 漁町104-1\, 恵庭市\, 北海道\, Japan
CATEGORIES:5月イベント
ATTACH;FMTTYPE=image/jpeg:https://musoukan.jp/wp-content/uploads/2026/04/20260501_Fuente_やきとり新撰組.jpg
END:VEVENT
BEGIN:VEVENT
DTSTART;TZID=Asia/Tokyo:20250531T140000
DTEND;TZID=Asia/Tokyo:20250531T170000
DTSTAMP:20260424T191329
CREATED:20250327T092802Z
LAST-MODIFIED:20250327T092802Z
UID:4856-1748700000-1748710800@musoukan.jp
SUMMARY:国際ソロプチミスト恵庭『北海道歌旅座 JUNCO&NARIKO』チャリティコンサート【2025年5月31日(土) 天融寺 光照殿】
DESCRIPTION:催事名\n国際ソロプチミスト恵庭 チャリティコンサート 『北海道歌旅座 JUNCO＆NARIKO』\n\n\n内容\nソロプチミスト恵庭が主催するチャリティー企画として、\n恵庭出身の吉田淳子（JUNCO）さんと、同じく北海道歌旅座メンバーでもあり、\nヴァイオリニストの高杉奈莉子さんによるコンサートを開催 \n【料金】2\,500円　※当時券もあります\n【問】090-3391₋6194（行澤）\n\n\n出演\n北海道歌旅座（JUNCO&NARIKO）\n\n\n日程\n2025年5月31日（土）\n\n\n時間\n開場13:30～　　開演14:00～\n\n\n場所\n天融寺　会館［光照殿］　（恵庭市上山口476番地）\n\n\n\n \nシェアよろしくお願いします！
URL:https://musoukan.jp/event/20250531/
LOCATION:北海道
CATEGORIES:5月イベント
ATTACH;FMTTYPE=image/jpeg:https://musoukan.jp/wp-content/uploads/2025/03/20250531_北海道歌旅座_天融寺-scaled.jpg
END:VEVENT
BEGIN:VEVENT
DTSTART;TZID=Asia/Tokyo:20250524T103000
DTEND;TZID=Asia/Tokyo:20250524T113000
DTSTAMP:20260424T191329
CREATED:20250520T034437Z
LAST-MODIFIED:20250520T034437Z
UID:5255-1748082600-1748086200@musoukan.jp
SUMMARY:みんなでたのしむ♪ピアノコンサート【2025年5月24日（土）島松公民館　参加無料】
DESCRIPTION:催事名\nみんなでたのしむ♪　ピアノコンサート\n\n\n内容\nちいさなおこさまから おとなまで どなたでもきがるにたのしめるコンサートです・・・💗\n【料金】無料\n【問】0123-36-7503（島松公民館：岩崎・今井）\n\n\n出演\n西野美穂さん（恵庭ロートス・ムジーク主宰／北海道文教大学 人間科学部 こども発達学科 教授） \n特別出演：恵庭少年少女合唱団\n賛助出演：三宅 彩枝さん（アルトサックス）\n\n\n日程\n2025年5月24日（土）\n\n\n時間\n10:30～11:30（受付10:15～）\n\n\n場所\n島松公民館 1F 集会室（恵庭市島松本町3-12-20）\n\n\n\n \nシェアよろしくお願いします！
URL:https://musoukan.jp/event/%e3%81%bf%e3%82%93%e3%81%aa%e3%81%a7%e3%81%9f%e3%81%ae%e3%81%97%e3%82%80%e2%99%aa%e3%83%94%e3%82%a2%e3%83%8e%e3%82%b3%e3%83%b3%e3%82%b5%e3%83%bc%e3%83%88%e3%80%902025%e5%b9%b45%e6%9c%8824%e6%97%a5/
LOCATION:北海道
CATEGORIES:5月イベント
ATTACH;FMTTYPE=image/jpeg:https://musoukan.jp/wp-content/uploads/2025/05/2025.5.24「ピアノコンサート」ポスター0.jpg
END:VEVENT
END:VCALENDAR